BEGIN:VCALENDAR
VERSION:2.0
PRODID:-//wp-events-plugin.com//7.2.3.1//EN
BEGIN:VEVENT
UID:29@kunden.ubuntu-eg.de
DTSTART;TZID=Europe/Berlin:20241204T130000
DTEND;TZID=Europe/Berlin:20241204T170000
DTSTAMP:20241126T235456Z
URL:https://kunden.ubuntu-eg.de/events/arzt-basis-2024-12-04-nachmittag/
SUMMARY:Arzt Basis
DESCRIPTION:Der Arztarbeitsplatz stellt die Grundlage der ärztlichen Dokum
 entation im Rahmen der Patientenbehandlung dar. Ziel ist\, dem ärztlichen
  Dienst das neue Werkzeug M-KIS zu erläutern\, damit diese im Alltag hand
 lungsfähig sind. Zudem sollen die neuen Prozesse\, die sich durch die dig
 itale Dokumentation der Behandlungsschritte ergeben\, dargestellt werden\n
 Inhalte\n\n 	Ärztliche ToDo-Liste\n 	Konsile/Funktionsdiagnostik\n 	Befun
 dung\n 	Arzt- bzw. Entlassungsbriefe\n 	Behandlungsplan Therapie\n 	Qualit
 ätssicherung\n 	Geriatrische Komplexbehandlung\n 	Verlaufsbericht\n 	Beha
 ndlungsplan\n 	Bettenplanung\n 	Anforderung\n 	Patientenkurve\n\nZeitliche
  Planung\n\n\n\n\nBeginn\nDauer\nEnde\n\n\nSchulungsblock\n13:00\n01:30\n1
 4:30\n\n\nPause\n14:30\n00:10\n14:40\n\n\nSchulungsblock\n14:40\n01:30\n16
 :10\n\n\nPause\n16:10\n00:10\n16:20\n\n\nSchulungsblock\n16:20\n00:40\n17:
 00\n\n\n
CATEGORIES:Ärzte
LOCATION:Zweiter Teil des Audimax\, Chausseestr. 46\, Wolgast\, Deutschland
X-APPLE-STRUCTURED-LOCATION;VALUE=URI;X-ADDRESS=Chausseestr. 46\, Wolgast\,
  Deutschland;X-APPLE-RADIUS=100;X-TITLE=Zweiter Teil des Audimax:geo:0,0
END:VEVENT
BEGIN:VTIMEZONE
TZID:Europe/Berlin
X-LIC-LOCATION:Europe/Berlin
BEGIN:STANDARD
DTSTART:20241027T020000
TZOFFSETFROM:+0200
TZOFFSETTO:+0100
TZNAME:CET
END:STANDARD
END:VTIMEZONE
END:VCALENDAR