BEGIN:VCALENDAR
VERSION:2.0
PRODID:-//wp-events-plugin.com//7.2.3.1//EN
BEGIN:VEVENT
UID:47@kunden.ubuntu-eg.de
DTSTART;TZID=Europe/Berlin:20241216T130000
DTEND;TZID=Europe/Berlin:20241216T150000
DTSTAMP:20241204T154820Z
URL:https://kunden.ubuntu-eg.de/events/arzt-op-2024-12-16/
SUMMARY:Arzt OP
DESCRIPTION:Das OP-Modul in M-KIS stellt eine weitere Neuerung für das KKH
  Wolgast dar. Im Gegensatz zur UMG wird das KKH Wolgast das Modul M-OP ein
 führen\, während in Greifswald weiterhin Torin (vormals MyMedis) genutzt
  wird. Ziel ist\, die Teilnehmer über den gesamten Prozess der OP-Planung
  bis hin zur Dokumentation zu informieren. In der Planung wird zwischen Pf
 lege-OP und Arzt-OP unterschieden. Das Schulungsziel bezieht sich auf den 
 gesamten OP-Prozess von der Planung bis zum Abschluss.\nInhalte\n\n 	OP-An
 meldung\n 	Notfalleingriff\n 	Ärztliche Dokumentation OP\n 	Poststationä
 re Anordnungen\n 	Anlage und Freigabe des OP-Berichts\n 	Erfassen von post
 operativen Diagnosen/Therapien\n 	Abschlussebenen\n 	Suchlisten (RIAs) zum
  OP\n 	Prämedikation\n 	OP-Ablaufsteuerung/OP-Koordination\n 	Materialerf
 assung\n 	Anlage mehrerer Eingriffe innerhalb einer Operation\n 	Saalplanu
 ng\n 	Notfalleingriff\n\nZeitliche Planung\n\n\n\n\nBeginn\nDauer\nEnde\n\
 n\nSchulungsblock\n13:00\n00:50\n13:50\n\n\nPause\n13:50\n00:10\n14:00\n\n
 \nSchulungsblock\n14:00\n01:00\n15:00\n\n\n
CATEGORIES:Ärzte OP
LOCATION:Zweiter Teil des Audimax\, Chausseestr. 46\, Wolgast\, Deutschland
X-APPLE-STRUCTURED-LOCATION;VALUE=URI;X-ADDRESS=Chausseestr. 46\, Wolgast\,
  Deutschland;X-APPLE-RADIUS=100;X-TITLE=Zweiter Teil des Audimax:geo:0,0
END:VEVENT
BEGIN:VTIMEZONE
TZID:Europe/Berlin
X-LIC-LOCATION:Europe/Berlin
BEGIN:STANDARD
DTSTART:20241027T020000
TZOFFSETFROM:+0200
TZOFFSETTO:+0100
TZNAME:CET
END:STANDARD
END:VTIMEZONE
END:VCALENDAR