BEGIN:VCALENDAR
VERSION:2.0
PRODID:-//wp-events-plugin.com//7.2.3.1//EN
BEGIN:VEVENT
UID:43@kunden.ubuntu-eg.de
DTSTART;TZID=Europe/Berlin:20241108T080000
DTEND;TZID=Europe/Berlin:20241108T170000
DTSTAMP:20240926T092236Z
URL:https://kunden.ubuntu-eg.de/events/key-user-schulung-arzt/
SUMMARY:Key-User-Schulung Arzt
DESCRIPTION:Die Key-User Schulungen bieten den Teilnehmenden einen tieferge
 henden Einblick in die Module von M-KIS\, um ihrer Schlüsselfunktion als 
 Ansprechpartner gerecht werden zu können.\n\n&nbsp\;\nInhalte\n\n 	Arzt-B
 asis\n\n 	Ärztliche ToDo-Liste\n 	Konsile/Funktionsdiagnostik\n 	Befundun
 g\n 	Arzt- bzw. Entlassungsbriefe\n 	Behandlungsplan Therapie\n 	Qualität
 ssicherung\n 	Geriatrische Komplexbehandlung\n 	Verlaufsbericht\n 	Behandl
 ungsplan\n 	Bettenplanung\n 	Anforderung\n 	Patientenkurve\n 	ZNA\n\n\n 	A
 rzt-OP\n\n 	OP-Anmeldung\n 	Notfalleingriff\n 	Ärztliche Dokumentation OP
 \n 	Poststationäre Anordnungen\n 	Anlage und Freigabe des OP-Berichts\n 	
 Erfassen von postoperativen Diagnosen/Therapien\n 	Abschlussebenen\n 	Such
 listen (RIAs) zum OP\n 	Prämedikation\n 	OP-Ablaufsteuerung/OP-Koordinati
 on\n 	Materialerfassung\n 	Anlage mehrerer Eingriffe innerhalb einer Opera
 tion\n 	Saalplanung\n 	Notfalleingriff\n\n\n\n&nbsp\;\nZeitliche Planung\n
 \n\n\n\nBeginn\nDauer\nEnde\n\n\nSchulungsblock\n08:00\n01:30\n09:30\n\n\n
 Pause\n09:30\n00:10\n09:40\n\n\nSchulungsblock\n09:40\n01:30\n11:10\n\n\nP
 ause\n11:10\n00:10\n11:20\n\n\nSchulungsblock\n11:20\n00:40\n12:00\n\n\nPa
 use\n12:00\n01:00\n13:00\n\n\nSchulungsblock\n13:00\n01:30\n14:30\n\n\nPau
 se\n14:30\n00:15\n14:45\n\n\nSchulungsblock\n14:45\n01:00\n15:45\n\n\nPaus
 e\n15:45\n00:15\n16:00\n\n\nSchulungsblock\n16:00\n01:00\n17:00\n\n\n
CATEGORIES:Ärzte,Key-User
LOCATION:Seminarraum im KKH Wolgast\, Chausseestr. 46\, Wolgast\, 17438\, D
 eutschland
X-APPLE-STRUCTURED-LOCATION;VALUE=URI;X-ADDRESS=Chausseestr. 46\, Wolgast\,
  17438\, Deutschland;X-APPLE-RADIUS=100;X-TITLE=Seminarraum im KKH Wolgast
 :geo:0,0
END:VEVENT
BEGIN:VTIMEZONE
TZID:Europe/Berlin
X-LIC-LOCATION:Europe/Berlin
BEGIN:STANDARD
DTSTART:20241027T020000
TZOFFSETFROM:+0200
TZOFFSETTO:+0100
TZNAME:CET
END:STANDARD
END:VTIMEZONE
END:VCALENDAR