BEGIN:VCALENDAR
VERSION:2.0
PRODID:-//wp-events-plugin.com//7.2.3.1//EN
BEGIN:VEVENT
UID:140@kunden.ubuntu-eg.de
DTSTART;TZID=Europe/Berlin:20241128T130000
DTEND;TZID=Europe/Berlin:20241128T150000
DTSTAMP:20241126T234921Z
URL:https://kunden.ubuntu-eg.de/events/medikation-aerzte-2024-11-28/
SUMMARY:Medikation - Ärzte
DESCRIPTION:
CATEGORIES:Medikation
LOCATION:Seminarraum im KKH Wolgast\, Chausseestr. 46\, Wolgast\, 17438\, D
 eutschland
X-APPLE-STRUCTURED-LOCATION;VALUE=URI;X-ADDRESS=Chausseestr. 46\, Wolgast\,
  17438\, Deutschland;X-APPLE-RADIUS=100;X-TITLE=Seminarraum im KKH Wolgast
 :geo:0,0
END:VEVENT
BEGIN:VTIMEZONE
TZID:Europe/Berlin
X-LIC-LOCATION:Europe/Berlin
BEGIN:STANDARD
DTSTART:20241027T020000
TZOFFSETFROM:+0200
TZOFFSETTO:+0100
TZNAME:CET
END:STANDARD
END:VTIMEZONE
END:VCALENDAR