BEGIN:VCALENDAR
VERSION:2.0
PRODID:-//wp-events-plugin.com//7.2.3.1//EN
BEGIN:VEVENT
UID:12@kunden.ubuntu-eg.de
DTSTART;TZID=Europe/Berlin:20241128T080000
DTEND;TZID=Europe/Berlin:20241128T170000
DTSTAMP:20241126T235330Z
URL:https://kunden.ubuntu-eg.de/events/pflege-basis-3-2024-11-28/
SUMMARY:Pflege Basis
DESCRIPTION:In dieser Schulung schauen wir uns die für die Pflege relevant
 en Bereiche in M-KIS an\, in denen die einzelnen Handgriffe am Patienten d
 okumentiert werden können.\nInhalte\n\n 	Pflegerische Aufnahme und Assess
 ment (ePA-AC)\n 	Pflegeplanung und Pflegemaßnahmenliste (LEP)\n 	Pflegeri
 sche To-Do-Liste\n 	Patientenkurve (inkl. Vitalwerte)\n 	Sturzprotokoll\n 
 	Zugänge/Ableitungen\n 	Wunddokumentation\n 	Ein-/Ausfuhrprotokoll\n 	Fl
 üssigkeitsbilanz\n 	Dokumentation der (non) MRE-Komplexbehandlung\n 	Bett
 enplanung\n 	Suchliste für Verlegung/Entlassung (Zu- und Abgangsliste)\n 
 	Geriatrische Komplexbehandlung\n 	Pflegebericht\n 	Anlage von Scores\n 	I
 mport von eingescannten Dokumenten\n 	Druck von Etikettenbögen und Statio
 nslisten\n 	Maßnahmenliste Funktionsdiagnostik\n 	Terminliste\n 	Laborauf
 trag\n\nZeitliche Planung\n\n\n\n\nBeginn\nDauer\nEnde\n\n\nSchulungsblock
 \n08:00\n01:30\n09:30\n\n\nPause\n09:30\n00:10\n09:40\n\n\nSchulungsblock\
 n09:40\n01:30\n11:10\n\n\nPause\n11:10\n00:10\n11:20\n\n\nSchulungsblock\n
 11:20\n00:40\n12:00\n\n\nPause\n12:00\n01:00\n13:00\n\n\nSchulungsblock\n1
 3:00\n01:30\n14:30\n\n\nPause\n14:30\n00:15\n14:45\n\n\nSchulungsblock\n14
 :45\n01:00\n15:45\n\n\nPause\n15:45\n00:15\n16:00\n\n\nSchulungsblock\n16:
 00\n01:00\n17:00\n\n\n
CATEGORIES:Pflege
LOCATION:Zweiter Teil des Audimax\, Chausseestr. 46\, Wolgast\, Deutschland
X-APPLE-STRUCTURED-LOCATION;VALUE=URI;X-ADDRESS=Chausseestr. 46\, Wolgast\,
  Deutschland;X-APPLE-RADIUS=100;X-TITLE=Zweiter Teil des Audimax:geo:0,0
END:VEVENT
BEGIN:VTIMEZONE
TZID:Europe/Berlin
X-LIC-LOCATION:Europe/Berlin
BEGIN:STANDARD
DTSTART:20241027T020000
TZOFFSETFROM:+0200
TZOFFSETTO:+0100
TZNAME:CET
END:STANDARD
END:VTIMEZONE
END:VCALENDAR