BEGIN:VCALENDAR
VERSION:2.0
PRODID:-//wp-events-plugin.com//7.2.3.1//EN
BEGIN:VEVENT
UID:35@kunden.ubuntu-eg.de
DTSTART;TZID=Europe/Berlin:20241212T130000
DTEND;TZID=Europe/Berlin:20241212T170000
DTSTAMP:20241126T235642Z
URL:https://kunden.ubuntu-eg.de/events/pflege-funktionsdienst-2024-12-13/
SUMMARY:Pflege Funktionsdienst
DESCRIPTION:Der Schulungsblock der Pflege im Funktionsdienst umfasst die Be
 reiche Ambulanz\, Funktionsstellenmanagement und ZNA. Da Mitarbeiter regel
 haft in allen genannten Bereichen tätig sind\, werden auch deren Schulung
 en zusammengefasst. Das Schulungsziel bezieht sich auf die gesamte pfleger
 ische Dokumentation in der Ambulanz\, der ZNA und im Funktionsarbeitsplatz
 .\nInhalte\n\n 	Dokumentation innerhalb des Ambulanzarbeitsplatzes\n\n 	Fu
 nktionalitäten des Wartezimmers und Behandlungsraums\n 	Vorstellen der Am
 bulanzkarte\n\n 	Diagnosen\, Therapien\n 	Leistungsziffern\n 	Befunde\n 	N
 otizen\n\n\n 	Ambulanter Brief\n 	Setzen des ambulanten Fallstatus\n 	To-D
 o-Listen\n 	Anforderung an Funktionsdiagnostik\n 	Terminmanagement\n\n\n 	
 Funktionsarbeitsplatz (FAP)\n\n 	Suchliste „Maßnahmenliste“\n 	Erstel
 len\, Abschluss und Storno einer Untersuchung\n 	Ergänzen weiterer Maßna
 hmen innerhalb einer Untersuchung\n 	Anlegen einer Selbstanforderung\n\n\n
  	ZNA\n\n 	Grafische Ansicht (ZNA-Dashboard)\n 	Dokumentationsseite „ZNA
 -Doku“\n 	Dokumentation der Triage\n 	Anforderung an Funktionsdiagnostik
 \n 	Befundung\n 	ZNA-/Entlassungsbrief\n\n\n\nZeitliche Planung\n\n\n\n\nB
 eginn\nDauer\nEnde\n\n\nSchulungsblock\n08:00\n01:30\n09:30\n\n\nPause\n09
 :30\n00:10\n09:40\n\n\nSchulungsblock\n09:40\n01:30\n11:10\n\n\nPause\n11:
 10\n00:10\n11:20\n\n\nSchulungsblock\n11:20\n00:40\n12:00\n\n\n
CATEGORIES:Pflege Funktionsdienst
LOCATION:Zweiter Teil des Audimax\, Chausseestr. 46\, Wolgast\, Deutschland
X-APPLE-STRUCTURED-LOCATION;VALUE=URI;X-ADDRESS=Chausseestr. 46\, Wolgast\,
  Deutschland;X-APPLE-RADIUS=100;X-TITLE=Zweiter Teil des Audimax:geo:0,0
END:VEVENT
BEGIN:VTIMEZONE
TZID:Europe/Berlin
X-LIC-LOCATION:Europe/Berlin
BEGIN:STANDARD
DTSTART:20241027T020000
TZOFFSETFROM:+0200
TZOFFSETTO:+0100
TZNAME:CET
END:STANDARD
END:VTIMEZONE
END:VCALENDAR