BEGIN:VCALENDAR
VERSION:2.0
PRODID:-//wp-events-plugin.com//7.2.3.1//EN
BEGIN:VEVENT
UID:49@kunden.ubuntu-eg.de
DTSTART;TZID=Europe/Berlin:20241213T100000
DTEND;TZID=Europe/Berlin:20241213T120000
DTSTAMP:20241126T235723Z
URL:https://kunden.ubuntu-eg.de/events/pflege-op-2024-12-13/
SUMMARY:Pflege OP
DESCRIPTION:Das OP-Modul in M-KIS stellt eine weitere Neuerung für das KKH
  Wolgast dar. Im Gegensatz zur UMG wird das KKH Wolgast das Modul M-OP ein
 führen\, während in Greifswald weiterhin Torin (vormals MyMedis) genutzt
  wird. Ziel ist\, die Teilnehmer über den gesamten Prozess der OP-Planung
  bis hin zur Dokumentation zu informieren. In der Planung wird zwischen Pf
 lege-OP und Arzt-OP unterschieden. Das Schulungsziel bezieht sich auf den 
 gesamten OP-Prozess von der Planung bis zum Abschluss.\nInhalte\n\n 	Pfleg
 edokumentation OP\n 	Suchlisten (RIAs) zum OP\n 	Abschlussebenen\n\nZeitli
 che Planung\n\n\n\n\nBeginn\nDauer\nEnde\n\n\nSchulungsblock\n10:00\n00:50
 \n10:50\n\n\nPause\n10:50\n00:10\n11:00\n\n\nSchulungsblock\n11:00\n01:00\
 n12:00\n\n\n
CATEGORIES:Pflege OP
LOCATION:Zweiter Teil des Audimax\, Chausseestr. 46\, Wolgast\, Deutschland
X-APPLE-STRUCTURED-LOCATION;VALUE=URI;X-ADDRESS=Chausseestr. 46\, Wolgast\,
  Deutschland;X-APPLE-RADIUS=100;X-TITLE=Zweiter Teil des Audimax:geo:0,0
END:VEVENT
BEGIN:VTIMEZONE
TZID:Europe/Berlin
X-LIC-LOCATION:Europe/Berlin
BEGIN:STANDARD
DTSTART:20241027T020000
TZOFFSETFROM:+0200
TZOFFSETTO:+0100
TZNAME:CET
END:STANDARD
END:VTIMEZONE
END:VCALENDAR