BEGIN:VCALENDAR
VERSION:2.0
PRODID:-//wp-events-plugin.com//7.2.3.1//EN
BEGIN:VEVENT
UID:39@kunden.ubuntu-eg.de
DTSTART;TZID=Europe/Berlin:20241127T150000
DTEND;TZID=Europe/Berlin:20241127T170000
DTSTAMP:20241126T235318Z
URL:https://kunden.ubuntu-eg.de/events/therapie-2024-11-25/
SUMMARY:Therapie
DESCRIPTION:Im Rahmen des Therapiemanagements werden den Therapeuten die Fe
 inheiten der Therapieplanung und des Terminmanagements näher erläutert. 
 Zudem gibt es durch die Ablösung von Gerda als geriatrisches Komplexmodul
  eine Neuerung für das KKH. Das Schulungsziel bezieht sich auf den gesamt
 en Therapieprozess eines Patienten von der Planung bis zum Abschluss.\nInh
 alte\n\n 	Geriatrische Komplexbehandlung (KB)\n\n 	Anmelden der KB\n 	Arbe
 itslisten\n\n 	KB-Patientenliste\n 	KB-Monitoring Therapien\n 	KB-Monitori
 ng Dokumente\n\n\n 	Terminplanung\n 	Dokumentation therapeutischer Leistun
 gen\n 	Verlaufsbericht\n\n 	Behandlungsziel\n 	Behandlungsergebnis\n\n\n 	
 Teambesprechungsprotokoll\n 	Modul „KB-Status“\n\n\n 	Behandlungsplan 
 Therapie\n\n 	Terminplanung\n 	Dokumentation therapeutischer Leistungen\n 
 	Verlaufsbericht\n\n 	Kommunikation mit anderen Berufsgruppen\n\n\n 	Dokum
 entationsseiten\n\n\n\n&nbsp\;\nZeitliche Planung\n\n\n\n\nBeginn\nDauer\n
 Ende\n\n\nSchulungsblock\n15:00\n00:50\n15:50\n\n\nPause\n15:50\n00:10\n16
 :00\n\n\nSchulungsblock\n16:00\n01:00\n17:00\n\n\n
CATEGORIES:Therapie
LOCATION:Zweiter Teil des Audimax\, Chausseestr. 46\, Wolgast\, Deutschland
X-APPLE-STRUCTURED-LOCATION;VALUE=URI;X-ADDRESS=Chausseestr. 46\, Wolgast\,
  Deutschland;X-APPLE-RADIUS=100;X-TITLE=Zweiter Teil des Audimax:geo:0,0
END:VEVENT
BEGIN:VTIMEZONE
TZID:Europe/Berlin
X-LIC-LOCATION:Europe/Berlin
BEGIN:STANDARD
DTSTART:20241027T020000
TZOFFSETFROM:+0200
TZOFFSETTO:+0100
TZNAME:CET
END:STANDARD
END:VTIMEZONE
END:VCALENDAR