BEGIN:VCALENDAR
VERSION:2.0
PRODID:-//wp-events-plugin.com//7.2.3.1//EN
BEGIN:VEVENT
UID:37@kunden.ubuntu-eg.de
DTSTART;TZID=Europe/Berlin:20241114T080000
DTEND;TZID=Europe/Berlin:20241114T170000
DTSTAMP:20241011T102513Z
URL:https://kunden.ubuntu-eg.de/events/vertiefung-key-user-pflege/
SUMMARY:Vertiefung Key-User Pflege
DESCRIPTION:Die Key-User Schulungen bieten den Teilnehmenden einen tieferge
 henden Einblick in die Module von M-KIS\, um ihrer Schlüsselfunktion als 
 Ansprechpartner gerecht werden zu können. Für die Pflege werden die Inha
 lte zur Pflegedokumentation in zwei Terminen vermittelt.\n\n&nbsp\;\nInhal
 te\n\n 	Pflegerische Aufnahme und Assessment (ePA-AC)\n 	Pflegeplanung und
  Pflegemaßnahmenliste (LEP)\n 	Pflegerische To-Do-Liste\n 	Patientenkurve
  (inkl. Vitalwerte)\n 	Sturzprotokoll\n 	Zugänge/Ableitungen\n 	Wunddokum
 entation\n 	Ein-/Ausfuhrprotokoll\n 	Flüssigkeitsbilanz\n 	Dokumentation 
 der (non) MRE-Komplexbehandlung\n 	Bettenplanung\n 	Suchliste für Verlegu
 ng/Entlassung (Zu- und Abgangsliste)\n 	Geriatrische Komplexbehandlung\n 	
 Pflegebericht\n 	Anlage von Scores\n 	Import von eingescannten Dokumenten\
 n 	Druck von Etikettenbögen und Stationslisten\n 	Maßnahmenliste Funktio
 nsdiagnostik\n 	Terminliste\n 	Laborauftrag\n\n&nbsp\;\nZeitliche Planung\
 n\n\n\n\nBeginn\nDauer\nEnde\n\n\nSchulungsblock\n08:00\n01:30\n09:30\n\n\
 nPause\n09:30\n00:10\n09:40\n\n\nSchulungsblock\n09:40\n01:30\n11:10\n\n\n
 Pause\n11:10\n00:10\n11:20\n\n\nSchulungsblock\n11:20\n00:40\n12:00\n\n\nP
 ause\n12:00\n01:00\n13:00\n\n\nSchulungsblock\n13:00\n01:30\n14:30\n\n\nPa
 use\n14:30\n00:15\n14:45\n\n\nSchulungsblock\n14:45\n01:00\n15:45\n\n\nPau
 se\n15:45\n00:15\n16:00\n\n\nSchulungsblock\n16:00\n01:00\n17:00\n\n\n
CATEGORIES:Key-User,Pflege
LOCATION:Seminarraum im KKH Wolgast\, Chausseestr. 46\, Wolgast\, 17438\, D
 eutschland
X-APPLE-STRUCTURED-LOCATION;VALUE=URI;X-ADDRESS=Chausseestr. 46\, Wolgast\,
  17438\, Deutschland;X-APPLE-RADIUS=100;X-TITLE=Seminarraum im KKH Wolgast
 :geo:0,0
END:VEVENT
BEGIN:VTIMEZONE
TZID:Europe/Berlin
X-LIC-LOCATION:Europe/Berlin
BEGIN:STANDARD
DTSTART:20241027T020000
TZOFFSETFROM:+0200
TZOFFSETTO:+0100
TZNAME:CET
END:STANDARD
END:VTIMEZONE
END:VCALENDAR